BEGIN:VCALENDAR
PRODID:-//eluceo/ical//2.0/EN
VERSION:2.0
CALSCALE:GREGORIAN
BEGIN:VEVENT
UID:18c80e51bc0fa3fa9ecd9d696a7b1ef6
DTSTAMP:20260420T052458Z
SUMMARY:Musical Oneg Shabbat Service and dinner
DESCRIPTION:UJA Federation of Greater Toronto\nJewish Toronto Calendar\nhtt
 ps://jewishtoronto.com/calendar/musical-oneg-shabbat-service-and-dinner\n\
 nWith Cantor Marcel Cohen and a guest Cantor\n\nFor reservations please ca
 ll 416 636-6665
DTSTART;TZID=America/Toronto:20150123T180000
DTEND;TZID=America/Toronto:20150123T220000
END:VEVENT
END:VCALENDAR
