BEGIN:VCALENDAR
PRODID:-//eluceo/ical//2.0/EN
VERSION:2.0
CALSCALE:GREGORIAN
BEGIN:VEVENT
UID:f583c6db4c60313325d78bab2bc0ab67
DTSTAMP:20260420T022804Z
SUMMARY:Musical Kabbalat Shabbat Service & Dinner with Cantor Adam Stotland
DESCRIPTION:UJA Federation of Greater Toronto\nJewish Toronto Calendar\nhtt
 ps://jewishtoronto.com/calendar/musical-kabbalat-shabbat-service--dinner-w
 ith-cantor-adam-stotland-1522270957\n\nCantor Adam Stotland leads Kabbalat
  Shabbat Services followed by a delicious catered dinner and the opportuni
 ty to get to know our guest cantor.\n$36 Adults\, $18 Youth (ages 5-14)\, 
 $6 Children (ages 1-4)
DTSTART;TZID=America/Toronto:20180420T183000
DTEND;TZID=America/Toronto:20180420T213000
END:VEVENT
END:VCALENDAR
