BEGIN:VCALENDAR
PRODID:-//eluceo/ical//2.0/EN
VERSION:2.0
CALSCALE:GREGORIAN
BEGIN:VEVENT
UID:867c4943357dae9cc9d7732432f95fd1
DTSTAMP:20260422T113029Z
SUMMARY:Musica Beth Tikvah Presents...You Need Two to Tango
DESCRIPTION:UJA Federation of Greater Toronto\nJewish Toronto Calendar\nhtt
 ps://jewishtoronto.com/calendar/musica-beth-tikvah-presentsyou-need-two-to
 -tango-1507656438\n\nPricing and registration details on the BT website. C
 all the office for more information.\n\nA unique artistic journey presente
 d by world class Israeli pianists Coral Solomon and Michael Berkovsky\, in
  collaboration with prominent Argentinian dancers Roxana and Fabian Belmon
 te.
DTSTART;TZID=America/Toronto:20171126T193000
DTEND;TZID=America/Toronto:20171126T213000
END:VEVENT
END:VCALENDAR
