BEGIN:VCALENDAR
PRODID:-//eluceo/ical//2.0/EN
VERSION:2.0
CALSCALE:GREGORIAN
BEGIN:VEVENT
UID:c60f3eb06a4a4f1a27128a738e114923
DTSTAMP:20260422T041321Z
SUMMARY:MukiBaum Foundation 3rd Annual Wonders of Ability Gala
DESCRIPTION:UJA Federation of Greater Toronto\nJewish Toronto Calendar\nhtt
 ps://jewishtoronto.com/calendar/mukibaum-foundation-3rd-annual-wonders-of-
 ability-gala-1449674637\n\nThe MukiBaum Accessibility Foundation is dedica
 ted to Providing the Key to Accessing Ability.\nWe provide support service
 s for children and adults with complex disabilities\, as well as their fam
 ilies\, through specialized and unique educational and therapeutic interve
 ntions. Our life-changing programs improve quality of life\, thus enabling
  all family members to actualize their full potential in spite of any chal
 lenging disabilities. By exploring the passions and talents of those with 
 complex d...
DTSTART;TZID=America/Toronto:20161106T173000
DTEND;TZID=America/Toronto:20161106T233000
END:VEVENT
END:VCALENDAR
