BEGIN:VCALENDAR
PRODID:-//eluceo/ical//2.0/EN
VERSION:2.0
CALSCALE:GREGORIAN
BEGIN:VEVENT
UID:8fd8ef0ee2f8b151634c61ff1c18a673
DTSTAMP:20260425T202432Z
SUMMARY:Mount Sinai Hospital's Classic Golf Tournament 
DESCRIPTION:UJA Federation of Greater Toronto\nJewish Toronto Calendar\nhtt
 ps://jewishtoronto.com/calendar/mount-sinai-hospitals-classic-golf-tournam
 ent\n\nFor more than 20 years\, this tournament has gained incredible mome
 ntum and to-date\, has raised nearly $6 million in support of groundbreaki
 ng research\, patient care and education at Mount Sinai Hospital
DTSTART;TZID=America/Toronto:20150615T093000
DTEND;TZID=America/Toronto:20150615T180000
END:VEVENT
END:VCALENDAR
