BEGIN:VCALENDAR
PRODID:-//eluceo/ical//2.0/EN
VERSION:2.0
CALSCALE:GREGORIAN
BEGIN:VEVENT
UID:c32f2b918a72752d006a63cfd19dff5a
DTSTAMP:20260421T030655Z
SUMMARY:Mount Sinai Hospital Golf Classic
DESCRIPTION:UJA Federation of Greater Toronto\nJewish Toronto Calendar\nhtt
 ps://jewishtoronto.com/calendar/mount-sinai-hospital-golf-classic-14489914
 58\n\nNow in its 22rd year\, the Mount Sinai Golf Classic has raised over 
 $6 million in support of ground breaking research\, patient care and educa
 tion at Mount Sinai Hospital. The event has continually grown and has beco
 me the golf tournament to participate in. To be hosted this year at the St
 . George’s Golf and Country Club\, designed by legendary Canadian golf c
 ourse architect Stanley Thompson\, this exclusive course has been ranked i
 n the top 30 courses in the world and top 10 in North America.
DTSTART;TZID=America/Toronto:20160530T100000
DTEND;TZID=America/Toronto:20160530T235959
END:VEVENT
END:VCALENDAR
