BEGIN:VCALENDAR
PRODID:-//eluceo/ical//2.0/EN
VERSION:2.0
CALSCALE:GREGORIAN
BEGIN:VEVENT
UID:57aa0c145ca7ff03a3097de161bdfe8b
DTSTAMP:20260420T032037Z
SUMMARY:Mosaic Interfaith at THZ
DESCRIPTION:UJA Federation of Greater Toronto\nJewish Toronto Calendar\nhtt
 ps://jewishtoronto.com/calendar/mosaic-interfaith-at-thz-1452010990\n\n'Yo
 ung Voices making a Difference'. Please join us for Mosaic Interfaith’s 
 annual program in honour of the birthday of Dr. Martin Luther King\, Junio
 r. Hear from a new generation who have taken up the challenge of social ju
 stice.
DTSTART;TZID=America/Toronto:20160117T140000
DTEND;TZID=America/Toronto:20160117T160000
END:VEVENT
END:VCALENDAR
