BEGIN:VCALENDAR
PRODID:-//eluceo/ical//2.0/EN
VERSION:2.0
CALSCALE:GREGORIAN
BEGIN:VEVENT
UID:1e558ddb533037a2bf96ae49f995700c
DTSTAMP:20260419T165243Z
SUMMARY:Monsters\, Machines\, and Modern Jews: an Evening with Nathan Engla
 nder
DESCRIPTION:UJA Federation of Greater Toronto\nJewish Toronto Calendar\nhtt
 ps://jewishtoronto.com/calendar/monsters-machines-and-modern-jews-an-eveni
 ng-with-nathan-englander-1644598781\n\nWe are pleased to invite you to an 
 event with renowned author Nathan Englander in conversation with professor
 s Sara R. Horowitz and David S. Koffman about the subtle and not-so-subtle
  plagues of contemporary Jewish life to be held on Sunday\, February 27\, 
 2022 at 7:30pm on Zoom.\n\nNathan Englander is the author of the novels ka
 ddish.com\, Dinner at the Center of the\nEarth\, and The Ministry of Speci
 al Cases\, and the story collections For the Relief of Unbearable Urges an
 d What We Talk About Wh...
DTSTART;TZID=America/Toronto:20220227T193000
DTEND;TZID=America/Toronto:20220227T210000
END:VEVENT
END:VCALENDAR
