BEGIN:VCALENDAR
PRODID:-//eluceo/ical//2.0/EN
VERSION:2.0
CALSCALE:GREGORIAN
BEGIN:VEVENT
UID:4583ecfb0f2d8f1339d75a9d48b48682
DTSTAMP:20260421T221248Z
SUMMARY:Monday Morning Learning with Rabbi Grover at Beth Tikvah Synagogue
DESCRIPTION:UJA Federation of Greater Toronto\nJewish Toronto Calendar\nhtt
 ps://jewishtoronto.com/calendar/monday-morning-learning-with-rabbi-grover-
 at-beth-tikvah-synagogue-1500398664\n\nAn Initiative of Beth Tikvah Women\
 n\n"Ethical Dilemmas in the Torah"
DTSTART;TZID=America/Toronto:20171127T094500
DTEND;TZID=America/Toronto:20171127T110000
END:VEVENT
END:VCALENDAR
