BEGIN:VCALENDAR
PRODID:-//eluceo/ical//2.0/EN
VERSION:2.0
CALSCALE:GREGORIAN
BEGIN:VEVENT
UID:77de57a482c25ee919e8d36bfd9b70aa
DTSTAMP:20260422T183550Z
SUMMARY:Moishe House Toronto Community Wide Open House
DESCRIPTION:UJA Federation of Greater Toronto\nJewish Toronto Calendar\nhtt
 ps://jewishtoronto.com/calendar/moishe-house-toronto-community-wide-open-h
 ouse\n\nThis open house will provide an intimate opportunity to meet Moish
 e House Toronto residents and participants\, learn more about the organiza
 tion’s impact\, and discuss the future of Moishe House in our community 
 and around the world. We willl conclude the program with a tour of the hou
 se and a mezzuah-hanging ceremony to mark this new Jewish home.\n\nHosted 
 by Abigail Engelsman\, Brett Karp\, Aaron Savatti\, Amanda Snow & Jillian 
 Windman (Moishe House Toronto Residents) and joined by Moishe Hous...
DTSTART;TZID=America/Toronto:20150428T190000
DTEND;TZID=America/Toronto:20150428T203000
END:VEVENT
END:VCALENDAR
