BEGIN:VCALENDAR
PRODID:-//eluceo/ical//2.0/EN
VERSION:2.0
CALSCALE:GREGORIAN
BEGIN:VEVENT
UID:bf773888c8eecf67aa39b57c81a3a426
DTSTAMP:20260424T122921Z
SUMMARY:MNJCC Yom Haatzmaut Community Celebration
DESCRIPTION:UJA Federation of Greater Toronto\nJewish Toronto Calendar\nhtt
 ps://jewishtoronto.com/calendar/mnjcc-yom-haatzmaut-community-celebration\
 n\nGet your passport to Israeli life and culture! Art\, games and jumgle g
 ym for the kids. A fun-filled celebration for the whole family.\n\nFees: 
 $ 10.00 - Per family
DTSTART;TZID=America/Toronto:20140511T100000
DTEND;TZID=America/Toronto:20140511T140000
END:VEVENT
END:VCALENDAR
