BEGIN:VCALENDAR
PRODID:-//eluceo/ical//2.0/EN
VERSION:2.0
CALSCALE:GREGORIAN
BEGIN:VEVENT
UID:ca8e4b3a461ca1e041537657dd16848b
DTSTAMP:20260422T055319Z
SUMMARY:MNjcc Community Choir Concert
DESCRIPTION:UJA Federation of Greater Toronto\nJewish Toronto Calendar\nhtt
 ps://jewishtoronto.com/calendar/mnjcc-community-choir-concert-day-2\n\nThe
  Choir's 18th Annual Spring Concert. With conductor Harriet Wichin\, piani
 st Len McCarthy and special guest percussionist Dick Smith. Tickets availa
 ble at the MNjcc Info Desk or by phone\, 416-924-6211 x 0.
DTSTART;TZID=America/Toronto:20140529T200000
DTEND;TZID=America/Toronto:20140529T223000
END:VEVENT
END:VCALENDAR
