BEGIN:VCALENDAR
PRODID:-//eluceo/ical//2.0/EN
VERSION:2.0
CALSCALE:GREGORIAN
BEGIN:VEVENT
UID:6d89b26bd96219f253a3f5972cb63d2b
DTSTAMP:20260425T134640Z
SUMMARY:MNjcc Community Candlelighting
DESCRIPTION:UJA Federation of Greater Toronto\nJewish Toronto Calendar\nhtt
 ps://jewishtoronto.com/calendar/mnjcc-community-candlelighting-1607462139\
 n\nMore Info\n https://www.facebook.com/events/199509441630813/?acontext=%
 7B%22event_action_history%22%3A[%7B%22mechanism%22%3A%22search_results%22%
 2C%22surface%22%3A%22search%22%7D]%7D
DTSTART;TZID=America/Toronto:20201210T170000
DTEND;TZID=America/Toronto:20201217T170000
END:VEVENT
END:VCALENDAR
