BEGIN:VCALENDAR
PRODID:-//eluceo/ical//2.0/EN
VERSION:2.0
CALSCALE:GREGORIAN
BEGIN:VEVENT
UID:e7ec6b6f1915caaf4b3bd86acb3333c9
DTSTAMP:20260424T161158Z
SUMMARY:Mizmor Monthly with Cantor Sidney Ezer and Asher Farber
DESCRIPTION:UJA Federation of Greater Toronto\nJewish Toronto Calendar\nhtt
 ps://jewishtoronto.com/calendar/mizmor-monthly-with-cantor-sidney-ezer-and
 -asher-farber-1647962797\n\nJoin Cantor Sidney Ezer and Asher Farber on th
 e first Tuesday of every month revolving around Rosh H̱odesh. We will exp
 lore many Jewish musical themes and genres\, one for every month of the Je
 wish calendar. This session will focus on Passover.\n\nMizmor Monthly will
  be streamed to Beth Tzedec&#039\;s Facebook page and YouTube channel. Reg
 istration is not required.
DTSTART;TZID=America/Toronto:20220405T193000
DTEND;TZID=America/Toronto:20220405T203000
END:VEVENT
END:VCALENDAR
