BEGIN:VCALENDAR
PRODID:-//eluceo/ical//2.0/EN
VERSION:2.0
CALSCALE:GREGORIAN
BEGIN:VEVENT
UID:fd059a8244f5cb71a6682d55ccd9f5d9
DTSTAMP:20260424T095605Z
SUMMARY:Mizmor Monthly: Adar 5783
DESCRIPTION:UJA Federation of Greater Toronto\nJewish Toronto Calendar\nhtt
 ps://jewishtoronto.com/calendar/mizmor-monthly-adar-5783-1675192665\n\nJoi
 n Cantor Sidney Ezer and Asher Farber as they preview the themes of the Je
 wish month of Adar through music and song. This program is open to everyon
 e with plenty of opportunity to sing along. This program is offered for in
 -person and online participation via https://www.bethtzedec.tv. \n\nThere 
 is no charge but pre-registration is requested for all so that we can send
  this session&#039\;s materials to participants a day or two in advance. T
 o register\, visit...
DTSTART;TZID=America/Toronto:20230218T193000
DTEND;TZID=America/Toronto:20230218T203000
END:VEVENT
END:VCALENDAR
