BEGIN:VCALENDAR
PRODID:-//eluceo/ical//2.0/EN
VERSION:2.0
CALSCALE:GREGORIAN
BEGIN:VEVENT
UID:54887827d4a58a6dea56f71518057a9b
DTSTAMP:20260422T023117Z
SUMMARY:Mitzvah of Donating Blood
DESCRIPTION:UJA Federation of Greater Toronto\nJewish Toronto Calendar\nhtt
 ps://jewishtoronto.com/calendar/mitzvah-of-donating-blood-1666620642\n\nJO
 IN TEMPLE SINAI MEMBERS & COMMUNITY IN THE Mitzvah of Donating BloodTuesda
 y\, November 29 from 2.00 p.m. to 7.00 p.m. Temple Sinai is partnering wit
 h Canadian Blood Services to host a blood drive on Tuesday\, November 29 f
 rom 2.00 p.m. to 7.00 p.m. in our Social Hall. This event is open to Templ
 e Sinai members and the greater Temple community.Please book an appointmen
 t on the Canadian Blood Services website by searching "Temple Sinai". You 
 must book an appointment as walk-ins cannot be accomm...
DTSTART;TZID=America/Toronto:20221129T140000
DTEND;TZID=America/Toronto:20221129T160000
END:VEVENT
END:VCALENDAR
