BEGIN:VCALENDAR
PRODID:-//eluceo/ical//2.0/EN
VERSION:2.0
CALSCALE:GREGORIAN
BEGIN:VEVENT
UID:b127a6e793141c9666104ac664fb34e6
DTSTAMP:20260419T154322Z
SUMMARY:Minyan\, Dinner\, and Story of the Jews Part 3
DESCRIPTION:UJA Federation of Greater Toronto\nJewish Toronto Calendar\nhtt
 ps://jewishtoronto.com/calendar/minyan-dinner-and-story-of-the-jews-part-3
 \n\nJoin the minyanaires for davening\, dinner and a movie. Minyan is at 5
 :00 pm\, dinner is at 5:30 pm\, followed by a screening of the movie\, “
 Story of the Jews Part 3”.
DTSTART;TZID=America/Toronto:20150120T170000
DTEND;TZID=America/Toronto:20150120T200000
END:VEVENT
END:VCALENDAR
