BEGIN:VCALENDAR
PRODID:-//eluceo/ical//2.0/EN
VERSION:2.0
CALSCALE:GREGORIAN
BEGIN:VEVENT
UID:f45e2da60d189d508373131cb0ba99af
DTSTAMP:20260421T085952Z
SUMMARY:Minority Rights to Participate in Governance: The Hart Act of 1832
DESCRIPTION:UJA Federation of Greater Toronto\nJewish Toronto Calendar\nhtt
 ps://jewishtoronto.com/calendar/minority-rights-to-participate-in-governan
 ce-the-hart-act-of-1832-1647982424\n\nDiscover how the Hart Act of 1832 la
 id the foundation for emancipation\, enfranchisement and\n\nthe right of c
 itizenry to participate in government and its operations\, and why that ma
 tters today.\n\nThe Hart Act represents the first true recognition of mino
 rity rights to participate in governance\n\nin Canada. Specifically\, it e
 nfranchised Jews to hold any position of trust while openly practicing\n\n
 their religion. How does this act apply today and why is it important for 
 protecting minority...
DTSTART;TZID=America/Toronto:20220323T120000
DTEND;TZID=America/Toronto:20220323T130000
END:VEVENT
END:VCALENDAR
