BEGIN:VCALENDAR
PRODID:-//eluceo/ical//2.0/EN
VERSION:2.0
CALSCALE:GREGORIAN
BEGIN:VEVENT
UID:5c7a2be4534c278143191a8b941f13d6
DTSTAMP:20260422T110827Z
SUMMARY:Mindfulness Minyan with Aviva Chernick
DESCRIPTION:UJA Federation of Greater Toronto\nJewish Toronto Calendar\nhtt
 ps://jewishtoronto.com/calendar/mindfulness-minyan-with-aviva-chernick-151
 1294749\n\nJoin shlichat tzibur\, musician and meditator\, Aviva Chernick\
 , for a Shabbat morning experience for your body\, mind and soul.\n\nMats 
 and bolsters provided. Wear comfortable clothing\n\nAll are welcome.
DTSTART;TZID=America/Toronto:20180512T100000
DTEND;TZID=America/Toronto:20180512T120000
END:VEVENT
END:VCALENDAR
