BEGIN:VCALENDAR
PRODID:-//eluceo/ical//2.0/EN
VERSION:2.0
CALSCALE:GREGORIAN
BEGIN:VEVENT
UID:f2929d7a052efdfaf86e0dc979568597
DTSTAMP:20260425T185253Z
SUMMARY:Mindfulness Minyan with Aviva Chernick
DESCRIPTION:UJA Federation of Greater Toronto\nJewish Toronto Calendar\nhtt
 ps://jewishtoronto.com/calendar/mindfulness-minyan-with-aviva-chernick-151
 1294591\n\nJoin shlichat tzibur\, musician and meditator\, Aviva Chernick\
 , for a Shabbat morning experience for your body\, mind and soul.\n\nBolst
 ers and mats provided. Wear comfortable clothing\n\nAll are welcome!
DTSTART;TZID=America/Toronto:20180428T100000
DTEND;TZID=America/Toronto:20180428T120000
END:VEVENT
END:VCALENDAR
