BEGIN:VCALENDAR
PRODID:-//eluceo/ical//2.0/EN
VERSION:2.0
CALSCALE:GREGORIAN
BEGIN:VEVENT
UID:f92d4960d814846fe607144842338a0f
DTSTAMP:20260421T163817Z
SUMMARY:Mindfulness Minyan with Aviva Chernick
DESCRIPTION:UJA Federation of Greater Toronto\nJewish Toronto Calendar\nhtt
 ps://jewishtoronto.com/calendar/mindfulness-minyan-with-aviva-chernick-151
 1294374\n\nJoin shlichat tzibur\, musician and meditator\, Aviva Chernick\
 , for a Shabbat morning experience for your body\, mind and soul.\n\nWear 
 comfortable clothing. Mats and bolsters provided.\n\nAll are welcome!
DTSTART;TZID=America/Toronto:20180303T100000
DTEND;TZID=America/Toronto:20180303T120000
END:VEVENT
END:VCALENDAR
