BEGIN:VCALENDAR
PRODID:-//eluceo/ical//2.0/EN
VERSION:2.0
CALSCALE:GREGORIAN
BEGIN:VEVENT
UID:0f344b539fb8660114186bec76bfa8ef
DTSTAMP:20260426T021541Z
SUMMARY:Mikey Greenblatt Live in Toronto
DESCRIPTION:UJA Federation of Greater Toronto\nJewish Toronto Calendar\nhtt
 ps://jewishtoronto.com/calendar/mikey-greenblatt-live-in-toronto-172918786
 1\n\nMikey Greenblatt has been featured on the hit stand up comedy show ki
 ll tony\, he is the winner of NYC’s shennanigans comedy competition\, an
 d a semi-finalist at the lehigh valley comedy competition\, this is Mikey
 ’s first Toronto show.
DTSTART;TZID=America/Toronto:20241104T200000
DTEND;TZID=America/Toronto:20241104T213000
END:VEVENT
END:VCALENDAR
