BEGIN:VCALENDAR
PRODID:-//eluceo/ical//2.0/EN
VERSION:2.0
CALSCALE:GREGORIAN
BEGIN:VEVENT
UID:c7e9bfb6018adb554c832bc6e1b7463b
DTSTAMP:20260422T194232Z
SUMMARY:Mesibaba Yom Ha’atzmaut
DESCRIPTION:UJA Federation of Greater Toronto\nJewish Toronto Calendar\nhtt
 ps://jewishtoronto.com/calendar/mesibaba-yom-haatzmaut-1775505126\n\n 
DTSTART;TZID=America/Toronto:20260422T170000
DTEND;TZID=America/Toronto:20260422T190000
END:VEVENT
END:VCALENDAR
