BEGIN:VCALENDAR
PRODID:-//eluceo/ical//2.0/EN
VERSION:2.0
CALSCALE:GREGORIAN
BEGIN:VEVENT
UID:cf285f3a9c5170cb00fc2f442a7d8585
DTSTAMP:20260422T222507Z
SUMMARY:Merkur Lecture: Health is a Human Right with Dr. Lisa Forman
DESCRIPTION:UJA Federation of Greater Toronto\nJewish Toronto Calendar\nhtt
 ps://jewishtoronto.com/calendar/merkur-lecture-health-is-a-human-right-wit
 h-dr-lisa-forman-1759148785\n\nWhat does it mean to say that health is a h
 uman right? Why should this right matter to Canadians or to Jewish communi
 ties anywhere? And how might communities like Darchei Noam think about hum
 an rights\, international law\, and the right to health in these deeply ch
 allenging times?\n\nDr. Lisa Forman is a professor of Public Health and La
 w at the Dalla Lana School of Public Health. She is an international human
  rights law scholar whose research explores how the right to health may co
 ntribute to ...
DTSTART;TZID=America/Toronto:20251116T193000
DTEND;TZID=America/Toronto:20251116T220000
END:VEVENT
END:VCALENDAR
