BEGIN:VCALENDAR
PRODID:-//eluceo/ical//2.0/EN
VERSION:2.0
CALSCALE:GREGORIAN
BEGIN:VEVENT
UID:92129ee67b4452968f3177c3ac0956c1
DTSTAMP:20260421T152953Z
SUMMARY:Mental HELLth - Standup Comedy In Support of CAMH
DESCRIPTION:UJA Federation of Greater Toronto\nJewish Toronto Calendar\nhtt
 ps://jewishtoronto.com/calendar/mental-hellth---standup-comedy-in-support-
 of-camh-1736807770\n\nRyGuy Comedy presents Mental HELLth\, the stand-up c
 omedy showcase where professional comedians prove that laughter truly is t
 he best medicine\, breaking mental health stigma with humour and heart!\n\
 nPlease join us for a hilarious evening of comedy that will both entertain
  and inspire\, all while raising money for an amazing cause! I am proud to
  announce that all proceeds from ticket sales will be donated to CAMH\, th
 e Centre For Addiction And Mental Health\, Canada's LARGEST mental health 
 hospit...
DTSTART;TZID=America/Toronto:20250130T190000
DTEND;TZID=America/Toronto:20250130T210000
END:VEVENT
END:VCALENDAR
