BEGIN:VCALENDAR
PRODID:-//eluceo/ical//2.0/EN
VERSION:2.0
CALSCALE:GREGORIAN
BEGIN:VEVENT
UID:afec1249e3aa96c7f789162add844a0b
DTSTAMP:20260422T062534Z
SUMMARY:Mental Health Empowerment Day
DESCRIPTION:UJA Federation of Greater Toronto\nJewish Toronto Calendar\nhtt
 ps://jewishtoronto.com/calendar/mental-health-empowerment-day-1515512600\n
 \n \n\n \n\nThe purpose of the event is to end stigma\, raise awareness\
 , promote dialogue and provide an opportunity to learn from a leading expe
 rt in the field who will be in Canada for the first time to share her expe
 rtise on Mental Health.\n\n \n\nThe afternoon event from 1:00-4:00pm is f
 or professionals and lay leaders who work with children and adolescents. T
 he 5:00-6:30pm event is for parents of children and adolescents who are st
 ruggling with mental health issues and related condit...
DTSTART;TZID=America/Toronto:20181028T130000
DTEND;TZID=America/Toronto:20181028T183000
END:VEVENT
END:VCALENDAR
