BEGIN:VCALENDAR
PRODID:-//eluceo/ical//2.0/EN
VERSION:2.0
CALSCALE:GREGORIAN
BEGIN:VEVENT
UID:64743c5facbbb804a90353e16bea036b
DTSTAMP:20260422T074538Z
SUMMARY:Mental Health Empowerment Day
DESCRIPTION:UJA Federation of Greater Toronto\nJewish Toronto Calendar\nhtt
 ps://jewishtoronto.com/calendar/mental-health-empowerment-day-1495632410\n
 \nWhat Is Mental Health Empowerment Day and Who Should Attend?\n\nMental h
 ealth issues are out there. They cannot be ignored. Empowerment Day is des
 igned to shed light on the issues and enable our community organizations t
 o proactively address this pervasive problem. By so doing we will provide 
 incremental value to participants in our community’s institutions and pr
 ograms. Most importantly\, the goal of Empowerment Day is to reduce suffer
 ing and improve the quality of life of our young communi...
DTSTART;TZID=America/Toronto:20170917T084500
DTEND;TZID=America/Toronto:20170917T120000
END:VEVENT
END:VCALENDAR
