BEGIN:VCALENDAR
PRODID:-//eluceo/ical//2.0/EN
VERSION:2.0
CALSCALE:GREGORIAN
BEGIN:VEVENT
UID:df0e26d1afb2fc69a4f42314961c769d
DTSTAMP:20260421T081029Z
SUMMARY:Mental Health Empowerment Day- Camp Edition
DESCRIPTION:UJA Federation of Greater Toronto\nJewish Toronto Calendar\nhtt
 ps://jewishtoronto.com/calendar/mental-health-empowerment-day--camp-editio
 n-1605222196\n\nAre you wondering about ways to help your child become mor
 e confident\, independent\, and resilient at summer camp?Join us for an in
 formation session on how to mentally empower your kids and yourselves for 
 a successful summer at camp! Panelists will discuss topics including the i
 mportance of camp to build a child’s resilience\; how to manage your own
  anxiety (parents)\; and how to support your child’s development. This i
 s a FREE virtual event\, registration and Zoom details will be provided in
  t...
DTSTART;TZID=America/Toronto:20210516T110000
DTEND;TZID=America/Toronto:20210516T120000
END:VEVENT
END:VCALENDAR
