BEGIN:VCALENDAR
PRODID:-//eluceo/ical//2.0/EN
VERSION:2.0
CALSCALE:GREGORIAN
BEGIN:VEVENT
UID:7777531ea929827e8dfd7d0a5c5031f8
DTSTAMP:20260421T062320Z
SUMMARY:UJA Young Leaders Presents - Menches and Moguls
DESCRIPTION:UJA Federation of Greater Toronto\nJewish Toronto Calendar\nhtt
 ps://jewishtoronto.com/calendar/menches-and-moguls\n\nUJA Young Leaders Pr
 esents - Menches & Moguls\n\nJoin us on Thursday\, April 6th to hear excep
 tional stories and career advice from top executives in the Real Estate in
 dustry.\n\nGuest Speakers: \n\nPeter Freed\nFreed Developments\, Presiden
 t & CEO\n\nStephen Diamond\nDiamond Corp.\, President & CEO\n\nFred Waks\n
 Trinity Development Group Inc.\, President & CEO\n\nCost: $50\nThursday\, 
 April 6\, 2017 \n6:30pm Cocktails and Networking | 7:15 Start\n\nRegister
  Online at: www.ujaevents.com/regi...
DTSTART;TZID=America/Toronto:20170406T183000
DTEND;TZID=America/Toronto:20170406T220000
END:VEVENT
END:VCALENDAR
