BEGIN:VCALENDAR
PRODID:-//eluceo/ical//2.0/EN
VERSION:2.0
CALSCALE:GREGORIAN
BEGIN:VEVENT
UID:e387588a21be7239b39685198cf11465
DTSTAMP:20260424T224421Z
SUMMARY:Memory Unearthed: Lodz Ghetto  Photography of Resistance
DESCRIPTION:UJA Federation of Greater Toronto\nJewish Toronto Calendar\nhtt
 ps://jewishtoronto.com/calendar/memory-unearthed-lodz-ghetto--photography-
 of-resistance-1727269557\n\nA remarkable story of one man\, held captive i
 n the Lodz Ghetto\, who used his camera to defy and resist.  Ms Sutnik wil
 l illustrate her talk with  photos taken in the Ghetto by Ross.
DTSTART;TZID=America/Toronto:20241114T180000
DTEND;TZID=America/Toronto:20241114T200000
END:VEVENT
END:VCALENDAR
