BEGIN:VCALENDAR
PRODID:-//eluceo/ical//2.0/EN
VERSION:2.0
CALSCALE:GREGORIAN
BEGIN:VEVENT
UID:1e30062d9cce1860741af82c227ad220
DTSTAMP:20260425T185625Z
SUMMARY:Memories in Focus
DESCRIPTION:UJA Federation of Greater Toronto\nJewish Toronto Calendar\nhtt
 ps://jewishtoronto.com/calendar/memories-in-focus-1513696087\n\nThe Azriel
 i Foundation is pleased to announce the launch of Pinchas Gutter's memoir\
 , Memories in Focus.\n\nDr. Stephen Smith\, Executive Director of the USC 
 Shoah Foundation will join Pinchas in a discussion about memory and rememb
 rance.\n\nGuests will receive a complimentary copy of the memoir. Dessert 
 reception and book signing to follow launch. \n\nAdmission is free.\nPleas
 e RSVP by January 20th at pinchas.eventbrite.com or 416.322.5928
DTSTART;TZID=America/Toronto:20180129T193000
DTEND;TZID=America/Toronto:20180129T210000
END:VEVENT
END:VCALENDAR
