BEGIN:VCALENDAR
PRODID:-//eluceo/ical//2.0/EN
VERSION:2.0
CALSCALE:GREGORIAN
BEGIN:VEVENT
UID:30c298c0803254e026719e1454720179
DTSTAMP:20260422T060844Z
SUMMARY:A panel discussion Memorializing the Holocaust in the 21st Century 
DESCRIPTION:UJA Federation of Greater Toronto\nJewish Toronto Calendar\nhtt
 ps://jewishtoronto.com/calendar/memorializing-the-holocaust-in-the-21st-ce
 ntury\n\nUJA’s Neuberger Holocaust Education Centre for a panel discussi
 on chaired by chaired by Doris L. Bergen\, Chancellor Rose and Ray Wolfe 
 Professor of Holocaust Studies at the University of Toronto\, with fellow 
 members of the design team for the National Holocaust Monument in Ottawa
  – architect Daniel Libeskind\, photographer Edward Burtynsky\, landsc
 ape architect Claude Cormier\, and Dov Goldstein\, Lord Cultural Resourc
 es.\n\nAdmission free\; enter via Bloor Street doors.\n\nThe annual Int...
DTSTART;TZID=America/Toronto:20150125T190000
DTEND;TZID=America/Toronto:20150125T210000
END:VEVENT
END:VCALENDAR
