BEGIN:VCALENDAR
PRODID:-//eluceo/ical//2.0/EN
VERSION:2.0
CALSCALE:GREGORIAN
BEGIN:VEVENT
UID:ef9ec4fc699b1d1e9e60119d47baf38e
DTSTAMP:20260423T100559Z
SUMMARY:Memorializing the Holocaust:  Perspectives from Austria & Canada
DESCRIPTION:UJA Federation of Greater Toronto\nJewish Toronto Calendar\nhtt
 ps://jewishtoronto.com/calendar/memorializing-the-holocaust--perspectives-
 from-austria--canada-1637100247\n\nThe Shoah Wall of Names\, a new Memoria
 l to the Austrian victims of the Holocaust was unveiled in Vienna this Nov
 ember. To mark this historic moment\, join us for a round table discussion
  focusing on the importance of memorializing the Shoah both in Austria and
  Canada. Featuring Hannah Lessing (Secretary General of the National Fund 
 of the Republic of Austria for Victims of National Socialism)\, Martin Eng
 elberg (Member of the Austrian Parliament\, sponsor of a bill allowing des
 cendants of Austri...
DTSTART;TZID=America/Toronto:20211122T120000
DTEND;TZID=America/Toronto:20211122T130000
END:VEVENT
END:VCALENDAR
