BEGIN:VCALENDAR
PRODID:-//eluceo/ical//2.0/EN
VERSION:2.0
CALSCALE:GREGORIAN
BEGIN:VEVENT
UID:0b84b549de53158eee6be562a74f9899
DTSTAMP:20260425T165311Z
SUMMARY:Mel Brooks: A Very Jewish Clown
DESCRIPTION:UJA Federation of Greater Toronto\nJewish Toronto Calendar\nhtt
 ps://jewishtoronto.com/calendar/mel-brooks-a-very-jewish-clown-1519265125\
 n\nThis talk\, presented by Linda Beck\, will focus on Mel Brooks’ life 
 as a (very Jewish) clown and on his brilliant use of music in his movies a
 nd shows.  Linda Beck has studied\, and teaches about\, Cole Porter\, Fred
  Astaire\, Rodgers & Hart\, and Shakespeare on Broadway\, among other topi
 cs. She has taught adult education courses at the University of Toronto\, 
 Ryerson University\, George Brown College and Lifelong Learning Mississaug
 a.
DTSTART;TZID=America/Toronto:20180225T120000
DTEND;TZID=America/Toronto:20180225T143000
END:VEVENT
END:VCALENDAR
