BEGIN:VCALENDAR
PRODID:-//eluceo/ical//2.0/EN
VERSION:2.0
CALSCALE:GREGORIAN
BEGIN:VEVENT
UID:2c39d8e572e141e49b21e65ff036277a
DTSTAMP:20260425T193821Z
SUMMARY:Meet Auschwitz’s Youngest Inmate: Rav Nissen Mangel
DESCRIPTION:UJA Federation of Greater Toronto\nJewish Toronto Calendar\nhtt
 ps://jewishtoronto.com/calendar/meet-auschwitzs-youngest-inmate-rav-nissen
 -mangel\n\nDespite the scars of many unspeakable atrocities\, our guest sp
 eaker was deeply inspired by brave Auschwitz prisoners’ extraordinary ac
 ts of faith. His passionately moving and powerful presentation\, shares hi
 s eye-witness account of the “camps\,” his survival of the infamous de
 ath march\, as well as his rock-solid faith in Hashem forged from those fi
 res of hell on earth. The Rabbi survived with exceptional purpose: he beca
 me an outstanding scholar\, a prolific writer\, a world-renowned lectu...
DTSTART;TZID=America/Toronto:20141125T193000
DTEND;TZID=America/Toronto:20141125T213000
END:VEVENT
END:VCALENDAR
