BEGIN:VCALENDAR
PRODID:-//eluceo/ical//2.0/EN
VERSION:2.0
CALSCALE:GREGORIAN
BEGIN:VEVENT
UID:0155116582234bdbe28499fe0e8418ac
DTSTAMP:20260424T115322Z
SUMMARY:Medical Marijuana Seminar at Adath Israel Congregation
DESCRIPTION:UJA Federation of Greater Toronto\nJewish Toronto Calendar\nhtt
 ps://jewishtoronto.com/calendar/medical-marijuana-seminar-at-adath-israel-
 congregation-1551976999\n\nJoin speakers Dr. David K. Conn and Dr. Marni B
 rooks with Moderator Dr. Ira Price for a program about the benefits of Med
 ical Marijuana
DTSTART;TZID=America/Toronto:20190507T190000
DTEND;TZID=America/Toronto:20190507T210000
END:VEVENT
END:VCALENDAR
