BEGIN:VCALENDAR
PRODID:-//eluceo/ical//2.0/EN
VERSION:2.0
CALSCALE:GREGORIAN
BEGIN:VEVENT
UID:4b198cdea5ca7d896fbaffe8c5b256a2
DTSTAMP:20260420T160218Z
SUMMARY:Matan Torah Comes to Life: A Comics Workshop for Grades 1-5
DESCRIPTION:UJA Federation of Greater Toronto\nJewish Toronto Calendar\nhtt
 ps://jewishtoronto.com/calendar/matan-torah-comes-to-life-a-comics-worksho
 p-for-grades-1-5-1620142160\n\nChildren in Grades 1 to 5 are invited to jo
 in us for an amazing comics workshop\, where they will learn unique drawin
 g techniques while bringing to life one of the most important moments for 
 Am Israel\, the Matan Torah (the giving of the Torah).\n\nIn keeping with 
 current Public Health restrictions\, this program will be offered via Zoom
 . Pre-register at https://bethtzedectoronto.shulcloud.com/form/matan-torah
 -comes-to-life.html.
DTSTART;TZID=America/Toronto:20210509T140000
DTEND;TZID=America/Toronto:20210509T150000
END:VEVENT
END:VCALENDAR
