BEGIN:VCALENDAR
PRODID:-//eluceo/ical//2.0/EN
VERSION:2.0
CALSCALE:GREGORIAN
BEGIN:VEVENT
UID:da7169ae17c121af4427082009487a29
DTSTAMP:20260426T034620Z
SUMMARY:Opera Appreciation with Iain Scott - Masters of Bel Canto
DESCRIPTION:UJA Federation of Greater Toronto\nJewish Toronto Calendar\nhtt
 ps://jewishtoronto.com/calendar/masters-of-bel-canto-1484250096\n\nOpera A
 ppreciation with Iain Scott\nBel Canto does not mean just "beautiful singi
 ng" \, but acrobatic\, show-off\, virtuoso singing. It was the mainstay of
  18th century Opera and of the composers who revived it in the early 19th 
 century.\nMarch 6          Mozart and Handel\nMarch 20        Rossini in I
 taly and Paris\nMarch 27        Bellini and Donizetti\nApril 3            
 Verdi’s “Galley Years”\nSeries: $72 (+applicable taxes)\nDrop-in: $2
 2 (+applicable taxes)\n
DTSTART;TZID=America/Toronto:20170306T133000
DTEND;TZID=America/Toronto:20170306T150000
END:VEVENT
END:VCALENDAR
