BEGIN:VCALENDAR
PRODID:-//eluceo/ical//2.0/EN
VERSION:2.0
CALSCALE:GREGORIAN
BEGIN:VEVENT
UID:1f519ba90a66ad03bd37739fc9e2f64c
DTSTAMP:20260421T043554Z
SUMMARY:Masked Tours at the Yiddish Book Center
DESCRIPTION:UJA Federation of Greater Toronto\nJewish Toronto Calendar\nhtt
 ps://jewishtoronto.com/calendar/masked-tours-at-the-yiddish-book-center-17
 47164841\n\nThe Yiddish Book Center is now offering masked tours of Yiddis
 h: A Global Culture\, our permanent exhibition. Visitors can experience th
 e incredible story of Yiddish on this 45-minute tour.\n\nMasked tours are 
 scheduled for 11:00 a.m. on:\n\nMonday\, May 19\nMonday\, June 30\nMonday\
 , July 28\n\nThe tour guide as well as all guests on the tour will be mask
 ed. There is no additional charge for these tours and no advance registrat
 ion required. If you have any questions about our Masked Tours\, pleas...
DTSTART;TZID=America/Toronto:20250519T110000
DTEND;TZID=America/Toronto:20250519T130000
END:VEVENT
END:VCALENDAR
