BEGIN:VCALENDAR
PRODID:-//eluceo/ical//2.0/EN
VERSION:2.0
CALSCALE:GREGORIAN
BEGIN:VEVENT
UID:b0ef5f02431ba331887744de2665ad9f
DTSTAMP:20260423T183041Z
SUMMARY:March of the Living Trip 2023
DESCRIPTION:UJA Federation of Greater Toronto\nJewish Toronto Calendar\nhtt
 ps://jewishtoronto.com/calendar/march-of-the-living-trip-2023\n\nMarch of 
 the Living Trip 2023 
DTSTART;TZID=America/Toronto:20230416T000000
DTEND;TZID=America/Toronto:20230430T000000
END:VEVENT
END:VCALENDAR
