BEGIN:VCALENDAR
PRODID:-//eluceo/ical//2.0/EN
VERSION:2.0
CALSCALE:GREGORIAN
BEGIN:VEVENT
UID:8892f39f78daced33ea42d42efa50816
DTSTAMP:20260420T101849Z
SUMMARY:March of the Living 30th Anniversary Gala (TENTATIVE DATE)
DESCRIPTION:UJA Federation of Greater Toronto\nJewish Toronto Calendar\nhtt
 ps://jewishtoronto.com/calendar/march-of-the-living-30th-anniversary-gala-
 tentative-date-1511446814\n\nCelebrating 30 years of the March of the Livi
 ng
DTSTART;TZID=America/Toronto:20180506T170000
DTEND;TZID=America/Toronto:20180506T210000
END:VEVENT
END:VCALENDAR
