BEGIN:VCALENDAR
PRODID:-//eluceo/ical//2.0/EN
VERSION:2.0
CALSCALE:GREGORIAN
BEGIN:VEVENT
UID:054660734b1b020145aa228fc268d25f
DTSTAMP:20260421T223856Z
SUMMARY:March of the Living 2026
DESCRIPTION:UJA Federation of Greater Toronto\nJewish Toronto Calendar\nhtt
 ps://jewishtoronto.com/calendar/march-of-the-living-2026\n\nMarch of the L
 iving 2026. 
DTSTART;TZID=America/Toronto:20260411T000000
DTEND;TZID=America/Toronto:20260426T235959
END:VEVENT
END:VCALENDAR
