BEGIN:VCALENDAR
PRODID:-//eluceo/ical//2.0/EN
VERSION:2.0
CALSCALE:GREGORIAN
BEGIN:VEVENT
UID:681ccd906fa240ee625b03a01e147387
DTSTAMP:20260420T124443Z
SUMMARY:Many Lives\, One People
DESCRIPTION:UJA Federation of Greater Toronto\nJewish Toronto Calendar\nhtt
 ps://jewishtoronto.com/calendar/many-lives-one-people\n\nThe Song Shul's n
 ewest monthly program celebrates growing up Jewish around the globe. This 
 month we feature South Africa as Glen Cohen shares stories of his childhoo
 d in South Africa -- family rituals\, school\, anti-semitism\, synagogue l
 ife and more. Following that\, Glen's Canadian-born son Eton Ziner-Cohen t
 ells us about growing up in Toronto as the child of an immigrant. Hear the
  fascinating differences and celebrate the astounding similarities of Our 
 People.\nFree admission
DTSTART;TZID=America/Toronto:20180131T190000
DTEND;TZID=America/Toronto:20180131T200000
END:VEVENT
END:VCALENDAR
