BEGIN:VCALENDAR
PRODID:-//eluceo/ical//2.0/EN
VERSION:2.0
CALSCALE:GREGORIAN
BEGIN:VEVENT
UID:b55712eac75e4178984061cea945ac64
DTSTAMP:20260421T104022Z
SUMMARY:UJA Major Gifts By Invitation Only Event
DESCRIPTION:UJA Federation of Greater Toronto\nJewish Toronto Calendar\nhtt
 ps://jewishtoronto.com/calendar/major-gifts-by-invite-only-event\n\nThis e
 vent is By Invitation Only. \n\nMore details to follow. 
DTSTART;TZID=America/Toronto:20220307T000000
DTEND;TZID=America/Toronto:20220307T235959
END:VEVENT
END:VCALENDAR
