BEGIN:VCALENDAR
PRODID:-//eluceo/ical//2.0/EN
VERSION:2.0
CALSCALE:GREGORIAN
BEGIN:VEVENT
UID:731816c17287d6c4fcec888440f336c5
DTSTAMP:20260419T152835Z
SUMMARY:MAH JONGG at Temple Har Zion every Wednesday
DESCRIPTION:UJA Federation of Greater Toronto\nJewish Toronto Calendar\nhtt
 ps://jewishtoronto.com/calendar/mah-jongg-at-temple-har-zion-every-wednesd
 ay\n\nJoin your fellow Mah Jongg devotees each Wednesday from 1:00 - 4:00 
 pm. Come in and enjoy lively play and socialization. Non-members are welco
 me.
DTSTART;TZID=America/Toronto:20150304T130000
DTEND;TZID=America/Toronto:20150304T160000
END:VEVENT
END:VCALENDAR
