BEGIN:VCALENDAR
PRODID:-//eluceo/ical//2.0/EN
VERSION:2.0
CALSCALE:GREGORIAN
BEGIN:VEVENT
UID:97e45ec7ab55688dde48b569fd5a4332
DTSTAMP:20260421T102553Z
SUMMARY:Magical Mentalist Evening to celebrate BEBY@60
DESCRIPTION:UJA Federation of Greater Toronto\nJewish Toronto Calendar\nhtt
 ps://jewishtoronto.com/calendar/magical-mentalist-evening\n\nFeaturing Mik
 e D’Urzo!\n\nEveryone’s invited to join the Youth Department as we cel
 ebrate BEBY@60! \n\nJoin us for a family-friendly\, all-ages evening of i
 llusions\, magic\, and dessert featuring renowned mentalist\, \n\nSupervi
 sed movie night for younger children.  \n\nReserve early in the office -
  space limited! Purchase information TBA.
DTSTART;TZID=America/Toronto:20150117T190000
DTEND;TZID=America/Toronto:20150117T210000
END:VEVENT
END:VCALENDAR
