BEGIN:VCALENDAR
PRODID:-//eluceo/ical//2.0/EN
VERSION:2.0
CALSCALE:GREGORIAN
BEGIN:VEVENT
UID:71564795ef0d120823412f101caccbe4
DTSTAMP:20260425T201832Z
SUMMARY:Magen David Events - Young Professional Shabbaton
DESCRIPTION:UJA Federation of Greater Toronto\nJewish Toronto Calendar\nhtt
 ps://jewishtoronto.com/calendar/magen-david-events-young-professional-shab
 baton\n\nMDEvents Toronto\, uniting young Jewish professionals from all wa
 lks of life\, regardless of level observance throughout the Greater Toront
 o Area with an emphasis on building a stronger & connected Jewish future. 
 By way of diverse inspirational events\, programs\, trips & classes we aim
  to inspire and strengthen your Jewish faith & knowledge. Working closely 
 with the GTA Jewish communities\, synagogues and other affiliated organiza
 tions we’ll add some “Kosher Spice” to our events\, building...
DTSTART;TZID=America/Toronto:20170331T192000
DTEND;TZID=America/Toronto:20170401T220000
END:VEVENT
END:VCALENDAR
