BEGIN:VCALENDAR
PRODID:-//eluceo/ical//2.0/EN
VERSION:2.0
CALSCALE:GREGORIAN
BEGIN:VEVENT
UID:10368cae1f6c5d6895d65e09ca968ab4
DTSTAMP:20260422T124058Z
SUMMARY:MAddie Leventhal Mikveh - Recipe book launch
DESCRIPTION:UJA Federation of Greater Toronto\nJewish Toronto Calendar\nhtt
 ps://jewishtoronto.com/calendar/maddie-leventhal-mikveh---recipe-book-laun
 ch-1449637080\n\nAnnual fundraiser for the Maddie Leventhal Mikveh
DTSTART;TZID=America/Toronto:20160329T190000
DTEND;TZID=America/Toronto:20160329T220000
END:VEVENT
END:VCALENDAR
