BEGIN:VCALENDAR
PRODID:-//eluceo/ical//2.0/EN
VERSION:2.0
CALSCALE:GREGORIAN
BEGIN:VEVENT
UID:d03eb7151cfd80d1ed772d322ae84719
DTSTAMP:20260420T034937Z
SUMMARY:Maccabi Canada Annual Gala
DESCRIPTION:UJA Federation of Greater Toronto\nJewish Toronto Calendar\nhtt
 ps://jewishtoronto.com/calendar/maccabi-canada-annual-gala-1738625309\n\nM
 accabi Canada Inaugural Gala event. More details to follow.
DTSTART;TZID=America/Toronto:20250220T180000
DTEND;TZID=America/Toronto:20250220T200000
END:VEVENT
END:VCALENDAR
