BEGIN:VCALENDAR
PRODID:-//eluceo/ical//2.0/EN
VERSION:2.0
CALSCALE:GREGORIAN
BEGIN:VEVENT
UID:f5f8a1b68824c119913681b95fa9009d
DTSTAMP:20260421T192500Z
SUMMARY:Lunch & Learn with Rabbi Weiss - Temple Har Zion
DESCRIPTION:UJA Federation of Greater Toronto\nJewish Toronto Calendar\nhtt
 ps://jewishtoronto.com/calendar/lunch-learn-with-rabbi-weiss-temple-har-zi
 on\n\nThe study will be a combination of various Jewish texts\, including 
 Talmud\, Midrash\, Parashat HaShavu'ah\, and Reform Responsa. Bring your l
 unch and come join us for an enlightening and enjoyable text study! \n 
DTSTART;TZID=America/Toronto:20150507T120000
DTEND;TZID=America/Toronto:20150507T130000
END:VEVENT
END:VCALENDAR
